







BEGIN:VCALENDAR
VERSION:2.0
PRODID:-//The Inner State - ECPv6.15.0//NONSGML v1.0//EN
CALSCALE:GREGORIAN
METHOD:PUBLISH
X-WR-CALNAME:The Inner State
X-ORIGINAL-URL:https://www.theinnerstate.global
X-WR-CALDESC:Évènements pour The Inner State
REFRESH-INTERVAL;VALUE=DURATION:PT1H
X-Robots-Tag:noindex
X-PUBLISHED-TTL:PT1H
BEGIN:VTIMEZONE
TZID:Europe/Paris
BEGIN:DAYLIGHT
TZOFFSETFROM:+0100
TZOFFSETTO:+0200
TZNAME:CEST
DTSTART:20260329T010000
END:DAYLIGHT
BEGIN:STANDARD
TZOFFSETFROM:+0200
TZOFFSETTO:+0100
TZNAME:CET
DTSTART:20261025T010000
END:STANDARD
END:VTIMEZONE
BEGIN:VEVENT
DTSTART;VALUE=DATE:20260214
DTEND;VALUE=DATE:20260216
DTSTAMP:20260424T205145
CREATED:20250917T092328Z
LAST-MODIFIED:20251013T160658Z
UID:10000019-1771027200-1771199999@www.theinnerstate.global
SUMMARY:Les 4 étapes d’évolution vers l'État Interne
DESCRIPTION:Ce programme n’est accessible que  si vous avez validé tous les modules du niveau 1. \nSi vous souhaitez vous inscrire\, contactez nous. \nPrendre conscience du niveau d’évolution de chacun\, et réveiller le potentiel d’auto-correction du système nerveux\, selon des niveaux de soins adaptés au niveau de chaque individu.  \nL’une des forces majeures de l’approche The Inner State est sa capacité de produire des soins physiques ou des outils de compréhension adaptés à tous. Les « 4 étapes d’évolution vers l’État Interne » sont une technologie à part entière qui a pour but de prendre conscience de là où nous en sommes dans notre propre évolution\, et de réveiller le potentiel d’auto-correction du système nerveux\, selon des niveaux de soins adaptés au niveau de chacun.  \nL’objectif est de libérer progressivement le système nerveux selon 4 grandes étapes :\n– La réhabilitation : pour relancer nos systèmes de récupération\, d’adaptation et pour dissiper le stress.\n– La transformation : pour apprendre à identifier et suspendre les schémas de fonctionnement limitants ou perturbateurs qui nous font tourner en rond ou nous rendent malades.\n – L’orientation : pour développer de nouveaux schémas permettant un plein rayonnement et l’obtention de notre idéal\n – L’inspiration : pour développer la capacité à partager et communiquer l’État Interne autour de soi au travers de l’expression de sa raison d’être\, professionnellement ou non.
URL:https://www.theinnerstate.global/evenement/les-4-etapes-devolution-vers-letat-interne/
LOCATION:Saint-Germain-en-Laye\, 1 Rue Saint-Louis\, Saint-Germain-en-Laye\, 78100\, France
CATEGORIES:Les 4 étapes d’évolution vers l'État Interne
ATTACH;FMTTYPE=image/png:https://www.theinnerstate.global/wp-content/uploads/2025/09/4-ns-petit.png
ORGANIZER;CN="Service client":MAILTO:contact@theinnerstate.global
GEO:47.226100991678;-1.5297061134922
X-APPLE-STRUCTURED-LOCATION;VALUE=URI;X-ADDRESS=Saint-Germain-en-Laye 1 Rue Saint-Louis Saint-Germain-en-Laye 78100 France;X-APPLE-RADIUS=500;X-TITLE=1 Rue Saint-Louis:geo:-1.5297061134922,47.226100991678
END:VEVENT
END:VCALENDAR