







BEGIN:VCALENDAR
VERSION:2.0
PRODID:-//The Inner State - ECPv6.15.0//NONSGML v1.0//EN
CALSCALE:GREGORIAN
METHOD:PUBLISH
X-WR-CALNAME:The Inner State
X-ORIGINAL-URL:https://www.theinnerstate.global
X-WR-CALDESC:Évènements pour The Inner State
REFRESH-INTERVAL;VALUE=DURATION:PT1H
X-Robots-Tag:noindex
X-PUBLISHED-TTL:PT1H
BEGIN:VTIMEZONE
TZID:Europe/Paris
BEGIN:DAYLIGHT
TZOFFSETFROM:+0100
TZOFFSETTO:+0200
TZNAME:CEST
DTSTART:20260329T010000
END:DAYLIGHT
BEGIN:STANDARD
TZOFFSETFROM:+0200
TZOFFSETTO:+0100
TZNAME:CET
DTSTART:20261025T010000
END:STANDARD
END:VTIMEZONE
BEGIN:VEVENT
DTSTART;TZID=Europe/Paris:20260526T084500
DTEND;TZID=Europe/Paris:20260526T180000
DTSTAMP:20260424T181935
CREATED:20260311T141456Z
LAST-MODIFIED:20260407T111422Z
UID:10000042-1779785100-1779818400@www.theinnerstate.global
SUMMARY:S.T.A.R.S Chiro
DESCRIPTION:Journée immersive réservée aux Chiropracteurs – Méthode S.T.A.R.S. \n\nDescription : \nUne journée entièrement dédiée aux chiropracteurs qui souhaitent découvrir\, vivre et intégrer la méthode S.T.A.R.S. dans leur pratique quotidienne. \nCe n’est pas une formation théorique de plus.\nC’est une expérience concrète\, en présentiel\, où vous repartez avec des outils directement applicables dans votre cabinet.\nQue vous soyez en début de carrière ou praticien confirmé\, cette journée vous offre un cadre rare : celui de ressentir la méthode de l’intérieur\, ajuster votre regard technique et expérimenter de nouveaux repères d’ajustement issus de la technologie S.T.A.R.S. \n\nProgramme de la journée : \n– Vivre la méthode S.T.A.R.S. \nAccédez à une approche globale. Comprenez les fondements de la méthode et ce qui la distingue.\n– Faire l’expérience d’un soin\nVous vivez un soin de l’intérieur\, en tant que patient.\nUne étape essentielle pour comprendre ce que vivent vos propres patients et affiner votre pratique.\n– Expérimenter les nouveaux repères d’ajustement\nDécouvrez comment la technologie S.T.A.R.S. renouvelle l’enseignement de l’ajustement. De nouveaux repères\, une nouvelle précision.\n– Les bases de la technique\nUn ancrage solide dans les fondamentaux. Les bases pour pratiquer avec clarté et cohérence.\n– Des outils concrets pour votre cabinet\nVous repartez avec des outils techniques immédiatement applicables. \n\nInformations pratiques : \nLieu : Saint-Germain-en-Laye\nDate: le mardi 26 mai 2025\nHoraire: 8h45-18h\nTarif :388 € \nPlaces limitées à 20 participants. Réservez votre place dès maintenant pour garantir votre participation.
URL:https://www.theinnerstate.global/evenement/stars-chiro/
LOCATION:Saint-Germain-en-Laye\, 1 Rue Saint-Louis\, Saint-Germain-en-Laye\, 78100\, France
CATEGORIES:STARS Chiro
ATTACH;FMTTYPE=image/jpeg:https://www.theinnerstate.global/wp-content/uploads/2026/03/STARS-Chiro-petit.jpg
ORGANIZER;CN="Service client":MAILTO:contact@theinnerstate.global
GEO:47.226100991678;-1.5297061134922
X-APPLE-STRUCTURED-LOCATION;VALUE=URI;X-ADDRESS=Saint-Germain-en-Laye 1 Rue Saint-Louis Saint-Germain-en-Laye 78100 France;X-APPLE-RADIUS=500;X-TITLE=1 Rue Saint-Louis:geo:-1.5297061134922,47.226100991678
END:VEVENT
END:VCALENDAR