







BEGIN:VCALENDAR
VERSION:2.0
PRODID:-//The Inner State - ECPv6.15.0//NONSGML v1.0//EN
CALSCALE:GREGORIAN
METHOD:PUBLISH
X-ORIGINAL-URL:https://www.theinnerstate.global
X-WR-CALDESC:Évènements pour The Inner State
REFRESH-INTERVAL;VALUE=DURATION:PT1H
X-Robots-Tag:noindex
X-PUBLISHED-TTL:PT1H
BEGIN:VTIMEZONE
TZID:Europe/Paris
BEGIN:DAYLIGHT
TZOFFSETFROM:+0100
TZOFFSETTO:+0200
TZNAME:CEST
DTSTART:20260329T010000
END:DAYLIGHT
BEGIN:STANDARD
TZOFFSETFROM:+0200
TZOFFSETTO:+0100
TZNAME:CET
DTSTART:20261025T010000
END:STANDARD
END:VTIMEZONE
BEGIN:VEVENT
DTSTART;VALUE=DATE:20260328
DTEND;VALUE=DATE:20260330
DTSTAMP:20260424T210649
CREATED:20250926T094556Z
LAST-MODIFIED:20251013T163042Z
UID:10000022-1774656000-1774828799@www.theinnerstate.global
SUMMARY:Le Succès Global
DESCRIPTION:Ce programme n’est accessible que  si vous avez validé tous les modules du niveau 1. \nSi vous souhaitez vous inscrire\, contactez nous. \nDévelopper votre business model et vos outils médias sur mesure. \nIl s’agit de créer un succès professionnel qui vous va comme un gant : votre succès Global! \nLa première journée vous permet de définir précisément comment vous allez utiliser les Nouveaux Droits de l’Homme de la manière la plus bénéfique pour vous.\nDe définir un succès pour vous\, mais aussi pour les personnes que vous allez servir\, que ce soient des clients\, des patients\, des élèves\, comme pour le monde autour de vous\, votre environnement familial\, votre vie sociale… mais aussi avec les autres Ambassadeurs afin de créer une synergie.\nPar exemple\, si un Ambassadeur aime enseigner son « savoir faire » et l’autre aime monter sur scène en tant qu’artiste pour « faire savoir »\, les deux sont complémentaires et participent à un Succès Global. \nAinsi\, vous allez construire votre business model en vous spécialisant sur votre talent personnel et ce que vous aimez le plus faire\, en utilisant des modèles existant de pratique des Nouveaux droits ou des nouveaux modèles que vous allez construire grâce à l’aide de spécialistes qui vous aideront à créer un « costume sur mesures » pour vous.\nL’objectif est que vous soyez pleinement opérationnel à servir les gens professionnellement dès la fin du programme. \nLa deuxième journée\, avec l’aide de spécialistes inspirés\, vous allez construire vos médias de base\, nécessaires dans le monde de communication d’aujourd’hui pour pouvoir connecter avec votre audience personnelle\, et afin de faire connaître votre service au travers des réseaux sociaux et de développer votre clientèle en accord parfait avec l’unicité du projet qui vous est authentique et qui a été révélé dans les parties précédentes.\nCette partie est une sorte de concrétisation\, de manifestation et d’assurance de votre réussite\, un accomplissement de votre formation : devenir une étoile dans votre domaine. \nRessortez de ce programme avec les outils essentiels de la réussite de votre activité professionnelle ; un service de cœur\, authentique\, qui vous convienne fidèlement\, sa communication pertinente\, un business model qui soit juste pour vous et crée un Succès Global.\nAfin d’être pleinement opérationnel et de pouvoir construire une vie professionnelle pleinement satisfaisante et inspirante\, qui soit un service pour vous et pour les autres. \nIl s’agit d’un séminaire intensif qui sera suivi d’un travail à la maison pour sa meilleure  intégration\, ainsi que de suivis à distance réguliers pour que vous soyez parfaitement prêts pour la partie suivante.
URL:https://www.theinnerstate.global/evenement/le-succes-global/
LOCATION:Saint-Germain-en-Laye\, 1 Rue Saint-Louis\, Saint-Germain-en-Laye\, 78100\, France
CATEGORIES:Succès Global
ATTACH;FMTTYPE=image/png:https://www.theinnerstate.global/wp-content/uploads/2025/09/sg-petit-2.png
ORGANIZER;CN="Service client":MAILTO:contact@theinnerstate.global
GEO:47.226100991678;-1.5297061134922
X-APPLE-STRUCTURED-LOCATION;VALUE=URI;X-ADDRESS=Saint-Germain-en-Laye 1 Rue Saint-Louis Saint-Germain-en-Laye 78100 France;X-APPLE-RADIUS=500;X-TITLE=1 Rue Saint-Louis:geo:-1.5297061134922,47.226100991678
END:VEVENT
END:VCALENDAR